BEGIN:VCALENDAR
VERSION:2.0
PRODID:-//Schnelles Grünzeug - ECPv6.15.8//NONSGML v1.0//EN
CALSCALE:GREGORIAN
METHOD:PUBLISH
X-WR-CALNAME:Schnelles Grünzeug
X-ORIGINAL-URL:https://xn--schnelles-grnzeug-e3b.de
X-WR-CALDESC:Veranstaltungen für Schnelles Grünzeug
REFRESH-INTERVAL;VALUE=DURATION:PT1H
X-Robots-Tag:noindex
X-PUBLISHED-TTL:PT1H
BEGIN:VTIMEZONE
TZID:Europe/Berlin
BEGIN:DAYLIGHT
TZOFFSETFROM:+0100
TZOFFSETTO:+0200
TZNAME:CEST
DTSTART:20210328T010000
END:DAYLIGHT
BEGIN:STANDARD
TZOFFSETFROM:+0200
TZOFFSETTO:+0100
TZNAME:CET
DTSTART:20211031T010000
END:STANDARD
BEGIN:DAYLIGHT
TZOFFSETFROM:+0100
TZOFFSETTO:+0200
TZNAME:CEST
DTSTART:20220327T010000
END:DAYLIGHT
BEGIN:STANDARD
TZOFFSETFROM:+0200
TZOFFSETTO:+0100
TZNAME:CET
DTSTART:20221030T010000
END:STANDARD
BEGIN:DAYLIGHT
TZOFFSETFROM:+0100
TZOFFSETTO:+0200
TZNAME:CEST
DTSTART:20230326T010000
END:DAYLIGHT
BEGIN:STANDARD
TZOFFSETFROM:+0200
TZOFFSETTO:+0100
TZNAME:CET
DTSTART:20231029T010000
END:STANDARD
END:VTIMEZONE
BEGIN:VEVENT
DTSTART;TZID=Europe/Berlin:20221204T180000
DTEND;TZID=Europe/Berlin:20221204T233000
DTSTAMP:20260421T150850
CREATED:20221013T101653Z
LAST-MODIFIED:20221106T132727Z
UID:103437-1670176800-1670196600@xn--schnelles-grnzeug-e3b.de
SUMMARY:Kochen mit Freunden
DESCRIPTION:Mit Matthias Gfrörer\, Ben Perry und Olaf Schnelle \nBereits seit 12 Jahren veranstaltet das Team aus der Gutsküche auf dem Gutshof Wulksfelde vor Hamburgs nördlichen Toren rund um Matthias Gfrörer das Event “Kochen mit Freu(n)den”. \nDabei werden befreundete Spitzenköche aus der ganzen Welt eingeladen und gemeinsam wird für den guten Zweck gekocht. \nMit einem spannenden Gourmet Menü und korrespondierenden Weinen werden Sie durch einen ganz besonderen Abend geführt. \nDiesmal geht es um Winterküche und so kochen mit Ben und Matthias zwei Köche aus der Sternegastronomie u.a. mit meinen Fermenten. Das wird spannend! \nDer Ticketerlös geht zugunsten des Kupferhof vom Hände für Kinder E.V. \nSeit 2013 bietet der Kupferhof Kurzzeit-Zuhause für Kinder und Jugendliche mit Behinderung in Hamburg. Für Kinder mit Handicap stehen 12 Zimmer und ein Team aus Pflegekräften\, Therapeuten und Pädagogen zur Verfügung. Die Familien der jungen Gäste wohnen in 15 weiteren Familienzimmern. \nLos geht das Event um 18:00 Uhr mit einem Aperitif. \n 
URL:https://xn--schnelles-grnzeug-e3b.de/event/kochen-mit-freunden/
LOCATION:Gutsküche\, Wulksfelder Damm 15-17\, Tangstedt\, Schleswig-Holstein\, 22889\, Deutschland
CATEGORIES:Veranstaltungen
ATTACH;FMTTYPE=image/jpeg:https://xn--schnelles-grnzeug-e3b.de/app/uploads/2022/10/WhatsApp-Image-2022-10-12-at-12.24.39-e1667741060378.jpeg
END:VEVENT
END:VCALENDAR