BEGIN:VCALENDAR
VERSION:2.0
PRODID:-//Schnelles Grünzeug - ECPv6.15.8//NONSGML v1.0//EN
CALSCALE:GREGORIAN
METHOD:PUBLISH
X-ORIGINAL-URL:https://xn--schnelles-grnzeug-e3b.de
X-WR-CALDESC:Veranstaltungen für Schnelles Grünzeug
REFRESH-INTERVAL;VALUE=DURATION:PT1H
X-Robots-Tag:noindex
X-PUBLISHED-TTL:PT1H
BEGIN:VTIMEZONE
TZID:Europe/Berlin
BEGIN:DAYLIGHT
TZOFFSETFROM:+0100
TZOFFSETTO:+0200
TZNAME:CEST
DTSTART:20240331T010000
END:DAYLIGHT
BEGIN:STANDARD
TZOFFSETFROM:+0200
TZOFFSETTO:+0100
TZNAME:CET
DTSTART:20241027T010000
END:STANDARD
BEGIN:DAYLIGHT
TZOFFSETFROM:+0100
TZOFFSETTO:+0200
TZNAME:CEST
DTSTART:20250330T010000
END:DAYLIGHT
BEGIN:STANDARD
TZOFFSETFROM:+0200
TZOFFSETTO:+0100
TZNAME:CET
DTSTART:20251026T010000
END:STANDARD
BEGIN:DAYLIGHT
TZOFFSETFROM:+0100
TZOFFSETTO:+0200
TZNAME:CEST
DTSTART:20260329T010000
END:DAYLIGHT
BEGIN:STANDARD
TZOFFSETFROM:+0200
TZOFFSETTO:+0100
TZNAME:CET
DTSTART:20261025T010000
END:STANDARD
END:VTIMEZONE
BEGIN:VEVENT
DTSTART;TZID=Europe/Berlin:20250511T130000
DTEND;TZID=Europe/Berlin:20250511T153000
DTSTAMP:20260421T153534
CREATED:20200706T142327Z
LAST-MODIFIED:20250304T115327Z
UID:49346-1746968400-1746977400@xn--schnelles-grnzeug-e3b.de
SUMMARY:Garten Workshop – Tag der offenen Tür
DESCRIPTION:Garten Workshop\nWir zeigen Ihnen unser Sortiment\, also was wir hier anbauen und wie wir das tun. Warum so manche Spezialität aus dem Süden auch hier bei uns im Norden wächst und reif wird. \nWir erklären\, warum unsere Gärtnerei sich als Permakultur-Gärtnerei begreift und das obwohl Sie hier keine Mandala-Abteilung\, keine Schlüssellochbeete oder gar Kräuterspiralen finden werden. \nAber Sie werden sehen\, wie Vielfalt in einem wirtschaftlich arbeitenden Betrieb gehandhabt wird\, wie der Aufbau eines gesunden Bodens erfolgt\, ohne das darunter die Produktivität leidet (das Gegenteil ist der Fall) und warum wir fast nie Unkraut hacken und trotzdem nicht darin untergehen. \nWir zeigen\, wie wenig Equipment es braucht\, eine Gärtnerei zu starten und zu betreiben\, denn wir setzen lieber auf Intelligenz als auf Investition. Viele kleine Details führen zum Erfolg. Wenn sie zueinander richtig angeordnet sind. \nKarten gibt es hier.
URL:https://xn--schnelles-grnzeug-e3b.de/event/tag-der-offenen-tuer-am-gartenworkshop/
LOCATION:Gärtnerei Schnelles Grünzeug\, Dorow 8\, Grammendorf\, Mecklenburg-Vorpommern\, 18513\, Deutschland
CATEGORIES:Tag der offenen Tür,Veranstaltungen,Workshop-Gärtnerei
ORGANIZER;CN="Schnelles Gr%C3%BCnzeug":MAILTO:os@schnelles-gruenzeug.de
END:VEVENT
END:VCALENDAR