BEGIN:VCALENDAR
VERSION:2.0
PRODID:-//Schnelles Grünzeug - ECPv6.15.8//NONSGML v1.0//EN
CALSCALE:GREGORIAN
METHOD:PUBLISH
X-ORIGINAL-URL:https://xn--schnelles-grnzeug-e3b.de
X-WR-CALDESC:Veranstaltungen für Schnelles Grünzeug
REFRESH-INTERVAL;VALUE=DURATION:PT1H
X-Robots-Tag:noindex
X-PUBLISHED-TTL:PT1H
BEGIN:VTIMEZONE
TZID:Europe/Berlin
BEGIN:DAYLIGHT
TZOFFSETFROM:+0100
TZOFFSETTO:+0200
TZNAME:CEST
DTSTART:20240331T010000
END:DAYLIGHT
BEGIN:STANDARD
TZOFFSETFROM:+0200
TZOFFSETTO:+0100
TZNAME:CET
DTSTART:20241027T010000
END:STANDARD
BEGIN:DAYLIGHT
TZOFFSETFROM:+0100
TZOFFSETTO:+0200
TZNAME:CEST
DTSTART:20250330T010000
END:DAYLIGHT
BEGIN:STANDARD
TZOFFSETFROM:+0200
TZOFFSETTO:+0100
TZNAME:CET
DTSTART:20251026T010000
END:STANDARD
BEGIN:DAYLIGHT
TZOFFSETFROM:+0100
TZOFFSETTO:+0200
TZNAME:CEST
DTSTART:20260329T010000
END:DAYLIGHT
BEGIN:STANDARD
TZOFFSETFROM:+0200
TZOFFSETTO:+0100
TZNAME:CET
DTSTART:20261025T010000
END:STANDARD
END:VTIMEZONE
BEGIN:VEVENT
DTSTART;TZID=Europe/Berlin:20250511T100000
DTEND;TZID=Europe/Berlin:20250511T120000
DTSTAMP:20260419T203449
CREATED:20201124T094638Z
LAST-MODIFIED:20250304T115317Z
UID:51394-1746957600-1746964800@xn--schnelles-grnzeug-e3b.de
SUMMARY:Führung durch Gärtnerei & Manufaktur – Tag der offenen Tür
DESCRIPTION:Wir sehen uns die Gärtnerei und die “Fermentations-Bude” an. \nIch werde in meiner Führung über meine Sicht auf die modernen Ansätze der Landbewirtschaftung eingehen und die Grundlagen der Gemüse-Fermentation vorstellen. \nAuch wenn um diese Jahreszeit der Garten noch etwas kahl sein wird\, werden wir zeigen können\, was das Besondere an unserer Gärtnerei ist und warum wir von hier aus die deutsche Top-Gastronomie beliefern. \nIn der Fermentations-Manufaktur sehen Sie dann\, wie wir unsere Gemüse-Überschüsse verarbeiten und es wird Kostproben geben. \nSie werden einen runden Überblick zu unseren Aktivitäten und unseren Zukunftsplänen erhalten. \nTickets können Sie hier kaufen.
URL:https://xn--schnelles-grnzeug-e3b.de/event/fuehrung-durch-die-gaertnerei/
LOCATION:Gärtnerei Schnelles Grünzeug\, Dorow 8\, Grammendorf\, Mecklenburg-Vorpommern\, 18513\, Deutschland
CATEGORIES:Tag der offenen Tür,Veranstaltungen,Vorträge
ORGANIZER;CN="Stralsunder Akademie f%C3%BCr Garten- und Landschaftskultur":MAILTO:kontakt@stralsunder-akademie.de
END:VEVENT
END:VCALENDAR