BEGIN:VCALENDAR
VERSION:2.0
PRODID:-//Schnelles Grünzeug - ECPv6.15.8//NONSGML v1.0//EN
CALSCALE:GREGORIAN
METHOD:PUBLISH
X-ORIGINAL-URL:https://xn--schnelles-grnzeug-e3b.de
X-WR-CALDESC:Veranstaltungen für Schnelles Grünzeug
REFRESH-INTERVAL;VALUE=DURATION:PT1H
X-Robots-Tag:noindex
X-PUBLISHED-TTL:PT1H
BEGIN:VTIMEZONE
TZID:Europe/Berlin
BEGIN:DAYLIGHT
TZOFFSETFROM:+0100
TZOFFSETTO:+0200
TZNAME:CEST
DTSTART:20240331T010000
END:DAYLIGHT
BEGIN:STANDARD
TZOFFSETFROM:+0200
TZOFFSETTO:+0100
TZNAME:CET
DTSTART:20241027T010000
END:STANDARD
BEGIN:DAYLIGHT
TZOFFSETFROM:+0100
TZOFFSETTO:+0200
TZNAME:CEST
DTSTART:20250330T010000
END:DAYLIGHT
BEGIN:STANDARD
TZOFFSETFROM:+0200
TZOFFSETTO:+0100
TZNAME:CET
DTSTART:20251026T010000
END:STANDARD
BEGIN:DAYLIGHT
TZOFFSETFROM:+0100
TZOFFSETTO:+0200
TZNAME:CEST
DTSTART:20260329T010000
END:DAYLIGHT
BEGIN:STANDARD
TZOFFSETFROM:+0200
TZOFFSETTO:+0100
TZNAME:CET
DTSTART:20261025T010000
END:STANDARD
END:VTIMEZONE
BEGIN:VEVENT
DTSTART;TZID=Europe/Berlin:20251120T140000
DTEND;TZID=Europe/Berlin:20251120T160000
DTSTAMP:20260424T041213
CREATED:20251010T180218Z
LAST-MODIFIED:20251112T175302Z
UID:118991-1763647200-1763654400@xn--schnelles-grnzeug-e3b.de
SUMMARY:Wilde Weiblichkeit
DESCRIPTION:Sicher fragen Sie sich\, was das Schnelle Grünzeug bzw. ich mit wilder Weiblichkeit zu tun habe. Nun\, außer großer Sympathie erst mal nichts. \nHier aber handelt es sich um einen Veranstaltungstitel der Yogalehrerin Kim\, die ihre Veranstaltungen thematisch deutlich über das Yoga hinausgehen lässt. Diese Veranstaltung richtet sich ausdrücklich an Frauen jenseits der 40. Und es geht sowohl um Frauenthemen als auch um Ernährung. Hier komme ich ins Spiel. \nDenn die Veranstaltung findet im wunderschönen Gutshaus Landsdorf\, ganz bei mir in der Nähe statt. Und ich trage beim Thema Ernährung meinen Teil bei. Es wird einen Fermentationsworkshop geben. Wir werden zusammen Gemüse fermentieren. \nNähere Infos und die Anmeldung finden Sie auf Kims Homepage.
URL:https://xn--schnelles-grnzeug-e3b.de/event/wilde-weiblichkeit/
LOCATION:Gutshaus Landsdorf\, Dorfstraße 63\, Landsdorf\, 18465\, Deutschland
CATEGORIES:Workshop-Fermentation,Workshops
ATTACH;FMTTYPE=image/png:https://xn--schnelles-grnzeug-e3b.de/app/uploads/2025/10/yogakim.png
END:VEVENT
END:VCALENDAR