BEGIN:VCALENDAR
VERSION:2.0
PRODID:-//Schnelles Grünzeug - ECPv6.15.8//NONSGML v1.0//EN
CALSCALE:GREGORIAN
METHOD:PUBLISH
X-WR-CALNAME:Schnelles Grünzeug
X-ORIGINAL-URL:https://xn--schnelles-grnzeug-e3b.de
X-WR-CALDESC:Veranstaltungen für Schnelles Grünzeug
REFRESH-INTERVAL;VALUE=DURATION:PT1H
X-Robots-Tag:noindex
X-PUBLISHED-TTL:PT1H
BEGIN:VTIMEZONE
TZID:Europe/Berlin
BEGIN:DAYLIGHT
TZOFFSETFROM:+0100
TZOFFSETTO:+0200
TZNAME:CEST
DTSTART:20240331T010000
END:DAYLIGHT
BEGIN:STANDARD
TZOFFSETFROM:+0200
TZOFFSETTO:+0100
TZNAME:CET
DTSTART:20241027T010000
END:STANDARD
BEGIN:DAYLIGHT
TZOFFSETFROM:+0100
TZOFFSETTO:+0200
TZNAME:CEST
DTSTART:20250330T010000
END:DAYLIGHT
BEGIN:STANDARD
TZOFFSETFROM:+0200
TZOFFSETTO:+0100
TZNAME:CET
DTSTART:20251026T010000
END:STANDARD
BEGIN:DAYLIGHT
TZOFFSETFROM:+0100
TZOFFSETTO:+0200
TZNAME:CEST
DTSTART:20260329T010000
END:DAYLIGHT
BEGIN:STANDARD
TZOFFSETFROM:+0200
TZOFFSETTO:+0100
TZNAME:CET
DTSTART:20261025T010000
END:STANDARD
END:VTIMEZONE
BEGIN:VEVENT
DTSTART;TZID=Europe/Berlin:20250927T100000
DTEND;TZID=Europe/Berlin:20250927T210000
DTSTAMP:20260424T073129
CREATED:20250816T183431Z
LAST-MODIFIED:20250817T055214Z
UID:118101-1758967200-1759006800@xn--schnelles-grnzeug-e3b.de
SUMMARY:Das Fermente Foodcamp in Dorow
DESCRIPTION:Das Fermente Fest an der Ostsee\nDas Fermente-Fest umfasst einerseits die vier bekannten Teile unseres online geführten Fermente-Food-Camps (Beginner\, Profi\, Saisonal und Kreativ). Sie bauen aufeinander auf und finden beim Fermente-Fest in Dorow alle innerhalb eines Tages statt. Außerdem wird es am Abend\, nach getaner Fermentationsarbeit\, ein Fermente-Festmahl geben. \nEs wird fermentiert\, gefuttert\, gefeiert und auch ein wenig in die Flasche geschaut. Schließlich ist auch der Wein ein feines Ferment! \nAm Ende des Tages haben wir uns lauter Köstlichkeiten zubereitet und die vertilgen wir direkt in der Gärtnerei in einem meiner Folien-Gewächshäuser. Und mit ein wenig Glück fliegen tausende Kraniche über uns hinweg und auf den Wiesen am Waldrand röhren die Hirsche. Und warum sollten wir kein Glück haben? Schließlich gehört dieses Schauspiel im Dorower Herbst zu unserem Alltag. \nMehr Infos und Tickets hier.
URL:https://xn--schnelles-grnzeug-e3b.de/event/das-fermente-foodcamp-in-dorow/
LOCATION:Gärtnerei Schnelles Grünzeug\, Dorow 8\, Grammendorf\, Mecklenburg-Vorpommern\, 18513\, Deutschland
CATEGORIES:Fermente-Kochkurs,Veranstaltungen,Workshop-Fermentation,Workshops
ATTACH;FMTTYPE=image/jpeg:https://xn--schnelles-grnzeug-e3b.de/app/uploads/2025/08/Das-Fermente-Fest-·-V2-Large.jpeg
ORGANIZER;CN="Schnelles Gr%C3%BCnzeug":MAILTO:os@schnelles-gruenzeug.de
END:VEVENT
END:VCALENDAR