BEGIN:VCALENDAR
VERSION:2.0
PRODID:-//Schnelles Grünzeug - ECPv6.15.8//NONSGML v1.0//EN
CALSCALE:GREGORIAN
METHOD:PUBLISH
X-WR-CALNAME:Schnelles Grünzeug
X-ORIGINAL-URL:https://xn--schnelles-grnzeug-e3b.de
X-WR-CALDESC:Veranstaltungen für Schnelles Grünzeug
REFRESH-INTERVAL;VALUE=DURATION:PT1H
X-Robots-Tag:noindex
X-PUBLISHED-TTL:PT1H
BEGIN:VTIMEZONE
TZID:Europe/Berlin
BEGIN:DAYLIGHT
TZOFFSETFROM:+0100
TZOFFSETTO:+0200
TZNAME:CEST
DTSTART:20220327T010000
END:DAYLIGHT
BEGIN:STANDARD
TZOFFSETFROM:+0200
TZOFFSETTO:+0100
TZNAME:CET
DTSTART:20221030T010000
END:STANDARD
BEGIN:DAYLIGHT
TZOFFSETFROM:+0100
TZOFFSETTO:+0200
TZNAME:CEST
DTSTART:20230326T010000
END:DAYLIGHT
BEGIN:STANDARD
TZOFFSETFROM:+0200
TZOFFSETTO:+0100
TZNAME:CET
DTSTART:20231029T010000
END:STANDARD
BEGIN:DAYLIGHT
TZOFFSETFROM:+0100
TZOFFSETTO:+0200
TZNAME:CEST
DTSTART:20240331T010000
END:DAYLIGHT
BEGIN:STANDARD
TZOFFSETFROM:+0200
TZOFFSETTO:+0100
TZNAME:CET
DTSTART:20241027T010000
END:STANDARD
END:VTIMEZONE
BEGIN:VEVENT
DTSTART;TZID=Europe/Berlin:20230428T100000
DTEND;TZID=Europe/Berlin:20230429T170000
DTSTAMP:20260426T025423
CREATED:20220701T175000Z
LAST-MODIFIED:20230309T181020Z
UID:98802-1682676000-1682787600@xn--schnelles-grnzeug-e3b.de
SUMMARY:Wildkräutertage im Dorower Frühling
DESCRIPTION:Endlich ist es soweit – es wird sie endlich wieder geben\, die Wildkräuter-Wanderung innerhalb der Wildkräutertage in Dorow! Von und mit “Schnelles Grünzeug”\, der Gärtnerei\, die das wilde Grünzeug in Deutschlands Topgastronomie salonfähig gemacht hat! \nDurchgeführt wird die Veranstaltung von Christina Straße (oben im Bild links). Sie ist langjährige Expertin und mit unserer Gärtnerei eng verbunden. \nDer Workshop wird sich über zwei Tage erstrecken. \nIm Frühjahr treiben überall die frischen\, zarten Blätter und Triebe der unterschiedlichen Wildkräuter aus der Erde. Diese jungen Wilden und ihre Verwendung in der Küche stehen im Fokus des zweitägigen Intensiv-Workshops. \nTag 1 – Wildes Trebeltal: \nUnsere Wanderung führt uns ins nahe gelegene\, landschaftlich reizvolle Trebeltal. In ca. 5 Stunden entdecken und ernten wir Wildkräuter der Saison: Auf der Wanderung verkosten und sammeln wir verschiedene Pflanzen sowie Knospen und Blüten von Bäumen und Sträuchern. \nDurch Erkennen und Bestimmen der Pflanzen in ihrer natürlichen Umgebung erlernen wir die Grundregeln der Wildkräutersammlung. Unsere Entdeckungen werden eingerahmt mit Erläuterungen der vielfältigen Nutzungsmöglichkeiten\, mit Fokus auf Kulinarik\, Inhaltsstoffe & Heilwirkungen. \nDer Tag endet mit einem Exkurs in die Gärtnerei Schnelles Grünzeug: Wir lernen typische saisonale Garten-Beikräuter und deren kulinarischen Verwendungsmöglichkeiten kennen. \nTag 2 – Wilde Delikatessen – So schmeckt der Frühling: \nAm Samstag werden wir das Sammelgut verarbeiten: \nAm Vormittag entstehen\, gemeinsam und unter Anleitung\, verschiedene wildkräuterbasierte Produkte\, die am Ende des Workshops mit nach Hause genommen werden können. \nJahreszeittypisch könnten dies z. B. sein: \n\nmarinierte Knospen von Löwenzahn\, Spitzwegerich oder Linde\nAnsatzessig mit Wildkräuterblüten\nFichtenwipfel-Giersch-Pesto\nsaisonales Wildkräutersalz\nBärlauchöl\nFrühlings-Oxymel aus Knospen und Blüten\nFrühlingskräutersalbe\n\nDie tatsächliche Auswahl der Produkte wird natürlich von der Verfügbarkeit in der Natur abhängig sein. \nIm weiteren Tagesverlauf bereiten wir anhand der bereitgestellten Rezepte ein schmackhaftes saisonales Wildkräutermenü (vegetarisch bzw. vegan) zu. Neben verschiedenen Vorspeisen\, Dips\, Suppen\, Hauptspeisen und Desserts entstehen im Tagesverlauf Kräuterlimonaden\, Apéritifs oder Smoothies auf Wildkräuterbasis. Bei gutem Wetter wird ein Teil der Mahlzeit auf der Feuerschale zubereitet. Die Wildkräutertage klingen mit einem gemeinsamen Essen auf der Wildkräuterwiese in Dorow aus. \nMitzubringen: \n\nTaschenmesser\nSchere\nggfs. kleine Gartenschere\nSammelbehältnisse: Korb\, Baumwollbeutel\, Papiertüten\, kleine Plastikgefäße\nKüchenhandtuch\nHandschuhe\nfestes Schuhwerk\nRegenjacke/ Sonnenschutz\nSchürze\nSchreibsachen\nVerpflegung für kleines Picknick am Freitag\nWorkshop inklusive Handout (mit den wichtigsten Wildkräuterportraits und Rezeptteil)\, 4‑Gänge-Menü\, Getränken sowie allen erforderlichen Zutaten. Exklusive ggfs. benötigter Gefäße (Gläser\, Flaschen). Diese können während des Workshops gegen Unkostenbeitrag erworben werden.\n\nRechtzeitig vor Beginn erhalten die Teilnehmer weitere Detail-Informationen zur Veranstaltung per E-Mail. \nHinweis: Die Teilnahme an Wildkräuterwanderung/ Workshop erfolgt auf eigene Gefahr. Eine Haftung bei z. B. Unfällen wird ausdrücklich ausgeschlossen. \nEigene Übernachtungsmöglichkeiten haben wir nicht. Es gibt aber Stellplätze für Caravans und Zelte. Ansonsten finden Sie hier weitere Möglichkeiten. \nBuchungsmöglichkeit\nDie Tickets gibt es hier.
URL:https://xn--schnelles-grnzeug-e3b.de/event/wildkraeutertage-in-dorow/
LOCATION:Gärtnerei Schnelles Grünzeug\, Dorow 8\, Grammendorf\, Mecklenburg-Vorpommern\, 18513\, Deutschland
CATEGORIES:Tag der offenen Tür,Veranstaltungen,Workshops
ATTACH;FMTTYPE=image/jpeg:https://xn--schnelles-grnzeug-e3b.de/app/uploads/2022/07/Wildkraeutertage-in-Dorow.jpg
ORGANIZER;CN="Schnelles Gr%C3%BCnzeug":MAILTO:os@schnelles-gruenzeug.de
END:VEVENT
END:VCALENDAR