BEGIN:VCALENDAR
VERSION:2.0
PRODID:-//Schnelles Grünzeug - ECPv6.15.8//NONSGML v1.0//EN
CALSCALE:GREGORIAN
METHOD:PUBLISH
X-WR-CALNAME:Schnelles Grünzeug
X-ORIGINAL-URL:https://xn--schnelles-grnzeug-e3b.de
X-WR-CALDESC:Veranstaltungen für Schnelles Grünzeug
REFRESH-INTERVAL;VALUE=DURATION:PT1H
X-Robots-Tag:noindex
X-PUBLISHED-TTL:PT1H
BEGIN:VTIMEZONE
TZID:Europe/Berlin
BEGIN:DAYLIGHT
TZOFFSETFROM:+0100
TZOFFSETTO:+0200
TZNAME:CEST
DTSTART:20250330T010000
END:DAYLIGHT
BEGIN:STANDARD
TZOFFSETFROM:+0200
TZOFFSETTO:+0100
TZNAME:CET
DTSTART:20251026T010000
END:STANDARD
BEGIN:DAYLIGHT
TZOFFSETFROM:+0100
TZOFFSETTO:+0200
TZNAME:CEST
DTSTART:20260329T010000
END:DAYLIGHT
BEGIN:STANDARD
TZOFFSETFROM:+0200
TZOFFSETTO:+0100
TZNAME:CET
DTSTART:20261025T010000
END:STANDARD
BEGIN:DAYLIGHT
TZOFFSETFROM:+0100
TZOFFSETTO:+0200
TZNAME:CEST
DTSTART:20270328T010000
END:DAYLIGHT
BEGIN:STANDARD
TZOFFSETFROM:+0200
TZOFFSETTO:+0100
TZNAME:CET
DTSTART:20271031T010000
END:STANDARD
END:VTIMEZONE
BEGIN:VEVENT
DTSTART;TZID=Europe/Berlin:20260325T190000
DTEND;TZID=Europe/Berlin:20260325T200000
DTSTAMP:20260423T225615
CREATED:20240103T130950Z
LAST-MODIFIED:20251112T190903Z
UID:111766-1774465200-1774468800@xn--schnelles-grnzeug-e3b.de
SUMMARY:Fermentation-Kurs KREATIV
DESCRIPTION:Was lernen Sie in diesem Kurs?\nIm vierten Teil unserer Fermentation-Kurs-Reihe gehen wir ein paar Schritte weiter – und zwar in die Probier-Küche. Sie wissen\, WIE man Gemüse fermentiert\, aber bisher nicht genau\, WAS Sie damit anstellen können. Dann sind Sie hier im KREATIV-Kurs genau richtig. \nIn diesem Kurs geht es darum\, was man mit saurem Gemüse machen kann: \n\nWie kombiniert man es mit anderen Lebensmitteln?\nKann man es eventuell sogar weiterverarbeiten?\nWas kann man mit der Lake anstellen\, die beim Fermentieren immer anfällt?\nWie stellt man all das an\, dass es seine probiotischen Eigenschaften erhält?\n\nWie die anderen Kurse\, findet auch der Kreativ-Kurs dreimal im Jahr statt (Frühling\, Sommer und Herbst). Das genaue Thema wird wenige Wochen vor dem Kurs entschieden und per Newsletter und Instagram abgestimmt und/oder verkündet. Also abonnieren Sie am besten beide Kanäle\, um nichts zu verpassen. \nWas brauchen Sie für den theoretischen Teil?\nNichts – außer aufmerksame Ohren und ein gutes Gedächtnis oder einen Notizblock \n  \nWie laufen die Kurse mit Olaf Schnelle ab?\nOnline-Kurse können langatmige Kost sein\, daher möchte ich es besser machen. Es soll produktiv\, informativ\, spaßig und irgendwie anders sein. Daher komme ich\, Olaf Schnelle\, zu Ihnen nach Hause. Nicht in Persona\, aber in persönlicher Atmosphäre. Ich möchte mit Ihnen auf Augenhöhe und gemeinsam fermentieren\, Sie in Ihrer Küche\, ich in meiner Küche. \nAnmeldung\, Tickets und Gutscheine\nDer Zugang zum Fermentations-Kurs\n\nSie buchen den Kurs\nPer Bestätigungsmail bekommen Sie den Einladungslink zum Zoom-Call\, nachdem Ihre Zahlung bei uns eingegangen ist.\nAm Tag des Kurses schalten Sie sich dem einstündigen Zoom-Call per Link zu. Dann geht es an das Eingemachte!\n\nWas ist Zoom?\nDas ist ein sehr einfach zu bedienendes Online-Tool. Sie benötigen einen Laptop oder einen PC mit Kamera\, Mikrofon\, Lautsprecher oder Headset.\nZoom installiert eine kleine App auf Ihrem Computer und schon sind sie bereit. Sie bekommen den Installations- und Einladungslink rechtzeitig vorher zugesandt. \nTickets\nWer für sich selbst die Tickets kaufen möchte\, kann hier direkt einen Platz buchen.
URL:https://xn--schnelles-grnzeug-e3b.de/event/fermentationsworkshop-creative/
LOCATION:Onlinekurs via zoom\, die Einladung wird per Mail zugesandt
CATEGORIES:Tag der offenen Tür,Veranstaltungen,Workshop-Fermentation,Workshops
ATTACH;FMTTYPE=image/jpeg:https://xn--schnelles-grnzeug-e3b.de/app/uploads/2021/04/Schnelles-Schulstube-·-13-Medium.jpeg
ORGANIZER;CN="Schnelles Gr%C3%BCnzeug":MAILTO:os@schnelles-gruenzeug.de
END:VEVENT
END:VCALENDAR